BEGIN:VCALENDAR
VERSION:2.0
PRODID:-//Squarespace Inc/Squarespace 6//v6//EN
BEGIN:VEVENT
UID:56453028e4b06c9193d3b5a3@squarespace.com
DTSTAMP:20151113T003721Z
DTSTART:20160415T031500Z
DTEND:20160415T031500Z
SUMMARY:Term 1 Ends
END:VEVENT
END:VCALENDAR
