BEGIN:VCALENDAR
VERSION:2.0
PRODID:-//Squarespace Inc/Squarespace 6//v6//EN
BEGIN:VEVENT
UID:56d76e4159827e4e2354f69b@squarespace.com
DTSTAMP:20160302T225238Z
DTSTART:20160328T110000Z
DTEND:20160328T235900Z
SUMMARY:School Holiday
END:VEVENT
END:VCALENDAR
