BEGIN:VCALENDAR
VERSION:2.0
PRODID:-//Squarespace Inc/Squarespace 6//v6//EN
BEGIN:VEVENT
UID:569ee600dc5cb40e1bca1b5e@squarespace.com
DTSTAMP:20160120T014251Z
DTSTART:20160327T110000Z
DTEND:20160328T105900Z
SUMMARY:Easter Monday
END:VEVENT
END:VCALENDAR
