BEGIN:VCALENDAR
VERSION:2.0
PRODID:-//Squarespace Inc/Squarespace 6//v6//EN
BEGIN:VEVENT
UID:569ee5c722482eeee4f81a92@squarespace.com
DTSTAMP:20160120T014212Z
DTSTART:20160324T110000Z
DTEND:20160325T105900Z
SUMMARY:Good Friday
END:VEVENT
END:VCALENDAR
