BEGIN:VCALENDAR
VERSION:2.0
PRODID:-//Squarespace Inc/Squarespace 6//v6//EN
BEGIN:VEVENT
UID:569ee541e0327ce43d9c96df@squarespace.com
DTSTAMP:20160120T014027Z
DTSTART:20160207T110000Z
DTEND:20160208T105900Z
SUMMARY:Waitangi Day
END:VEVENT
END:VCALENDAR
