BEGIN:VCALENDAR
VERSION:2.0
PRODID:-//Squarespace Inc/Squarespace 6//v6//EN
BEGIN:VEVENT
UID:56452fe1e4b00a3ec7d21e74@squarespace.com
DTSTAMP:20151113T003407Z
DTSTART:20160204T194500Z
DTEND:20160205T021500Z
SUMMARY:First Day of Term 1
END:VEVENT
END:VCALENDAR
