BEGIN:VCALENDAR
VERSION:2.0
PRODID:-//Squarespace Inc/Squarespace 6//v6//EN
BEGIN:VEVENT
UID:569ee83f3b0be3cdaf4fbf0e@squarespace.com
DTSTAMP:20160120T015250Z
DTSTART:20160217T023000Z
DTEND:20160217T030000Z
SUMMARY:Open House
END:VEVENT
END:VCALENDAR
