BEGIN:VCALENDAR
VERSION:2.0
PRODID:-//Squarespace Inc/Squarespace 6//v6//EN
BEGIN:VEVENT
UID:5645323de4b07ecc46012705@squarespace.com
DTSTAMP:20181113T005305Z
DTSTART:20181220T021500Z
DTEND:20181220T031500Z
SUMMARY:Term 4 End Date TBC (no later than 20 Dec)
END:VEVENT
END:VCALENDAR
