BEGIN:VCALENDAR
VERSION:2.0
PRODID:-//Squarespace Inc/Squarespace 6//v6//EN
BEGIN:VEVENT
UID:569ee6b71f4039c84fb9d728@squarespace.com
DTSTAMP:20190912T001139Z
DTSTART:20191027T110000Z
DTEND:20191028T105900Z
SUMMARY:Labour Day
END:VEVENT
END:VCALENDAR
