BEGIN:VCALENDAR
VERSION:2.0
PRODID:-//Squarespace Inc/Squarespace 6//v6//EN
BEGIN:VEVENT
UID:564531c3e4b07ecc460122ee@squarespace.com
DTSTAMP:20151113T004230Z
DTSTART:20161009T194500Z
DTEND:20161009T194500Z
SUMMARY:Term 4 Starts
END:VEVENT
END:VCALENDAR
