BEGIN:VCALENDAR
VERSION:2.0
PRODID:-//Squarespace Inc/Squarespace 6//v6//EN
BEGIN:VEVENT
UID:54d09d9be4b0aa80bc5d9784@squarespace.com
DTSTAMP:20150204T095108Z
DTSTART:20150925T031500Z
DTEND:20150925T041500Z
SUMMARY:Term 3 ends
END:VEVENT
END:VCALENDAR
