BEGIN:VCALENDAR
VERSION:2.0
PRODID:-//Squarespace Inc/Squarespace 6//v6//EN
BEGIN:VEVENT
UID:54d09d68e4b0c9b6a6748281@squarespace.com
DTSTAMP:20150204T093845Z
DTSTART:20150719T204500Z
DTEND:20150719T214500Z
SUMMARY:Term 3 Starts
END:VEVENT
END:VCALENDAR
