BEGIN:VCALENDAR
VERSION:2.0
PRODID:-//Squarespace Inc/Squarespace 6//v6//EN
BEGIN:VEVENT
UID:54d09f31e4b0fbe008c604cf@squarespace.com
DTSTAMP:20150203T101332Z
DTSTART:20150531T203000Z
DTEND:20150531T213000Z
SUMMARY:Queen's Birthday - No School
END:VEVENT
END:VCALENDAR
