BEGIN:VCALENDAR
VERSION:2.0
PRODID:-//Squarespace Inc/Squarespace 6//v6//EN
BEGIN:VEVENT
UID:54d09e56e4b0258bf2b27a0a@squarespace.com
DTSTAMP:20150203T100944Z
DTSTART:20150406T203000Z
DTEND:20150406T213000Z
SUMMARY:Tuesday after Easter - No School
END:VEVENT
END:VCALENDAR
