BEGIN:VCALENDAR
VERSION:2.0
PRODID:-//Squarespace Inc/Squarespace 6//v6//EN
BEGIN:VEVENT
UID:54d09e2ee4b003674ce8bf58@squarespace.com
DTSTAMP:20150203T100916Z
DTSTART:20150405T203000Z
DTEND:20150405T213000Z
SUMMARY:Easter Monday - No School
END:VEVENT
END:VCALENDAR
