BEGIN:VCALENDAR
VERSION:2.0
PRODID:-//Squarespace Inc/Squarespace 6//v6//EN
BEGIN:VEVENT
UID:54d09dfee4b04a9ce1997ad7@squarespace.com
DTSTAMP:20150203T100824Z
DTSTART:20150402T193000Z
DTEND:20150402T203000Z
SUMMARY:Good Friday - No school
END:VEVENT
END:VCALENDAR
