BEGIN:VCALENDAR
VERSION:2.0
PRODID:-//Squarespace Inc/Squarespace 6//v6//EN
BEGIN:VEVENT
UID:54d09c9ae4b0384b4f85134c@squarespace.com
DTSTAMP:20150204T093827Z
DTSTART:20150419T204500Z
DTEND:20150419T214500Z
SUMMARY:Term 2 Begins
END:VEVENT
END:VCALENDAR
