BEGIN:VCALENDAR
VERSION:2.0
PRODID:-//Squarespace Inc/Squarespace 6//v6//EN
BEGIN:VEVENT
UID:54d09c69e4b034d4089bf3f2@squarespace.com
DTSTAMP:20150204T095038Z
DTSTART:20150402T021500Z
DTEND:20150402T031500Z
SUMMARY:Term 1 Ends
END:VEVENT
END:VCALENDAR
