BEGIN:VCALENDAR
VERSION:2.0
PRODID:-//Squarespace Inc/Squarespace 6//v6//EN
BEGIN:VEVENT
UID:5506aba1e4b04b97e280efba@squarespace.com
DTSTAMP:20150316T100922Z
DTSTART:20150325T060000Z
DTEND:20150325T083000Z
SUMMARY:Titoki AGM
END:VEVENT
END:VCALENDAR
