BEGIN:VCALENDAR
VERSION:2.0
PRODID:-//Squarespace Inc/Squarespace 6//v6//EN
BEGIN:VEVENT
UID:54d09f7ee4b04a581099fef8@squarespace.com
DTSTAMP:20150204T100226Z
DTSTART:20150225T060000Z
DTEND:20150225T080000Z
SUMMARY:Council meeting
END:VEVENT
END:VCALENDAR
