BEGIN:VCALENDAR
VERSION:2.0
PRODID:-//Squarespace Inc/Squarespace 6//v6//EN
BEGIN:VEVENT
UID:54c404b3e4b02be743a38461@squarespace.com
DTSTAMP:20150124T204737Z
DTSTART:20150201T194500Z
DTEND:20150201T204500Z
SUMMARY:Term 1 Starts
END:VEVENT
END:VCALENDAR
