BEGIN:VCALENDAR
VERSION:2.0
PRODID:-//Squarespace Inc/Squarespace 6//v6//EN
BEGIN:VEVENT
UID:54d1eb08e4b026f68f1c5c7e@squarespace.com
DTSTAMP:20150316T101215Z
DTSTART:20150209T194500Z
DTEND:20150209T204500Z
SUMMARY:Tots Playgroup starts
END:VEVENT
END:VCALENDAR
