BEGIN:VCALENDAR
VERSION:2.0
PRODID:-//Squarespace Inc/Squarespace 6//v6//EN
BEGIN:VEVENT
UID:56452e6fe4b08f5e5ba6ff78@squarespace.com
DTSTAMP:20151113T003134Z
DTSTART:20151217T233000Z
DTEND:20151217T233000Z
SUMMARY:Last Day of Term 4
END:VEVENT
END:VCALENDAR
