BEGIN:VCALENDAR
VERSION:2.0
PRODID:-//Squarespace Inc/Squarespace 6//v6//EN
BEGIN:VEVENT
UID:56453cfde4b02a919c7d87e0@squarespace.com
DTSTAMP:20151113T012955Z
DTSTART:20151113T200000Z
DTEND:20151114T020000Z
SUMMARY:Working Bees
END:VEVENT
END:VCALENDAR
