BEGIN:VCALENDAR
VERSION:2.0
PRODID:-//Squarespace Inc/Squarespace 6//v6//EN
BEGIN:VEVENT
UID:54d09ef8e4b021eb6438ba5b@squarespace.com
DTSTAMP:20150203T101236Z
DTSTART:20151025T193000Z
DTEND:20151025T203000Z
SUMMARY:Labour Day - No School
END:VEVENT
END:VCALENDAR
