BEGIN:VCALENDAR
VERSION:2.0
PRODID:-//Squarespace Inc/Squarespace 6//v6//EN
BEGIN:VEVENT
UID:54d09dcce4b063638fe06bbc@squarespace.com
DTSTAMP:20150204T093905Z
DTSTART:20151011T194500Z
DTEND:20151011T204500Z
SUMMARY:Term 4 Starts
END:VEVENT
END:VCALENDAR
