BEGIN:VCALENDAR
VERSION:2.0
PRODID:-//Squarespace Inc/Squarespace 6//v6//EN
BEGIN:VEVENT
UID:54c17111e4b0a0456daea615@squarespace.com
DTSTAMP:20150122T215252Z
DTSTART:20150126T220000Z
DTEND:20150128T230000Z
SUMMARY:School Holiday Program
END:VEVENT
END:VCALENDAR
