BEGIN:VCALENDAR
VERSION:2.0
PRODID:-//Squarespace Inc/Squarespace 6//v6//EN
BEGIN:VEVENT
UID:5317e763e4b0d5b56218cde1@squarespace.com
DTSTAMP:20140306T031153Z
DTSTART:20140926T043000Z
DTEND:20140926T053000Z
SUMMARY:Term 3 Last Day
END:VEVENT
END:VCALENDAR
