BEGIN:VCALENDAR
VERSION:2.0
PRODID:-//Squarespace Inc/Squarespace 6//v6//EN
BEGIN:VEVENT
UID:5317e70ae4b01a2dce573486@squarespace.com
DTSTAMP:20140417T100743Z
DTSTART:20140703T210000Z
DTEND:20140703T220000Z
SUMMARY:Term 2 Last Day
END:VEVENT
END:VCALENDAR
