BEGIN:VCALENDAR
VERSION:2.0
PRODID:-//Squarespace Inc/Squarespace 6//v6//EN
BEGIN:VEVENT
UID:5317e72ae4b01a2dce5734bc@squarespace.com
DTSTAMP:20140306T031042Z
DTSTART:20140721T043000Z
DTEND:20140721T053000Z
SUMMARY:Term 3 Starts
END:VEVENT
END:VCALENDAR
