BEGIN:VCALENDAR
VERSION:2.0
PRODID:-//Squarespace Inc/Squarespace 6//v6//EN
BEGIN:VEVENT
UID:5317e889e4b025dd262043b9@squarespace.com
DTSTAMP:20140306T031632Z
DTSTART:20140602T043000Z
DTEND:20140602T053000Z
SUMMARY:Queen's Birthday - Titoki Closed
END:VEVENT
END:VCALENDAR
