BEGIN:VCALENDAR
VERSION:2.0
PRODID:-//Squarespace Inc/Squarespace 6//v6//EN
BEGIN:VEVENT
UID:5317e6f9e4b01a2dce573459@squarespace.com
DTSTAMP:20140417T100722Z
DTSTART:20140504T210000Z
DTEND:20140504T220000Z
SUMMARY:Term 2 Starts
END:VEVENT
END:VCALENDAR
