BEGIN:VCALENDAR
VERSION:2.0
PRODID:-//Squarespace Inc/Squarespace 6//v6//EN
BEGIN:VEVENT
UID:534fa870e4b06ee47048b9a3@squarespace.com
DTSTAMP:20140417T101018Z
DTSTART:20140528T070000Z
DTEND:20140528T093000Z
SUMMARY:Council Meeting
END:VEVENT
END:VCALENDAR
