BEGIN:VCALENDAR
VERSION:2.0
PRODID:-//Squarespace Inc/Squarespace 6//v6//EN
BEGIN:VEVENT
UID:534fa68de4b0ecf5755b4cb7@squarespace.com
DTSTAMP:20140417T100551Z
DTSTART:20140509T210000Z
DTEND:20140510T020000Z
SUMMARY:Parent Working Beee
END:VEVENT
END:VCALENDAR
