BEGIN:VCALENDAR
VERSION:2.0
PRODID:-//Squarespace Inc/Squarespace 6//v6//EN
BEGIN:VEVENT
UID:5317e86ce4b025dd26204392@squarespace.com
DTSTAMP:20140306T031559Z
DTSTART:20140425T043000Z
DTEND:20140425T053000Z
SUMMARY:Anzac Day - Titoki Closed
END:VEVENT
END:VCALENDAR
