BEGIN:VCALENDAR
VERSION:2.0
PRODID:-//Squarespace Inc/Squarespace 6//v6//EN
BEGIN:VEVENT
UID:5317e841e4b025dd262042c5@squarespace.com
DTSTAMP:20140306T031852Z
DTSTART:20140422T043000Z
DTEND:20140422T053000Z
SUMMARY:Easter Tuesday
END:VEVENT
END:VCALENDAR
