BEGIN:VCALENDAR
VERSION:2.0
PRODID:-//Squarespace Inc/Squarespace 6//v6//EN
BEGIN:VEVENT
UID:5317e816e4b025dd2620426c@squarespace.com
DTSTAMP:20140306T031845Z
DTSTART:20140421T043000Z
DTEND:20140421T053000Z
SUMMARY:Easter Monday
END:VEVENT
END:VCALENDAR
