BEGIN:VCALENDAR
VERSION:2.0
PRODID:-//Squarespace Inc/Squarespace 6//v6//EN
BEGIN:VEVENT
UID:5317e7f1e4b0bf4d7354ae64@squarespace.com
DTSTAMP:20140306T031823Z
DTSTART:20140418T043000Z
DTEND:20140418T053000Z
SUMMARY:Good Friday
END:VEVENT
END:VCALENDAR
