BEGIN:VCALENDAR
VERSION:2.0
PRODID:-//Squarespace Inc/Squarespace 6//v6//EN
BEGIN:VEVENT
UID:5317e6d7e4b01a2dce573417@squarespace.com
DTSTAMP:20140306T030921Z
DTSTART:20140417T043000Z
DTEND:20140417T053000Z
SUMMARY:Term 1 Last Day
END:VEVENT
END:VCALENDAR
