BEGIN:VCALENDAR
VERSION:2.0
PRODID:-//Squarespace Inc/Squarespace 6//v6//EN
BEGIN:VEVENT
UID:5317ea23e4b03b2ec2050eae@squarespace.com
DTSTAMP:20140306T032700Z
DTSTART:20140319T023000Z
DTEND:20140319T033000Z
SUMMARY:Open Day
END:VEVENT
END:VCALENDAR
