BEGIN:VCALENDAR
VERSION:2.0
PRODID:-//Squarespace Inc/Squarespace 6//v6//EN
BEGIN:VEVENT
UID:5317e6b9e4b01a2dce5733da@squarespace.com
DTSTAMP:20140306T030853Z
DTSTART:20140203T033000Z
DTEND:20140203T043000Z
SUMMARY:Term 1 Starts
END:VEVENT
END:VCALENDAR
