BEGIN:VCALENDAR
VERSION:2.0
PRODID:-//Squarespace Inc/Squarespace 6//v6//EN
BEGIN:VEVENT
UID:5317e7a7e4b009ca7e437380@squarespace.com
DTSTAMP:20140306T031252Z
DTSTART:20141218T033000Z
DTEND:20141218T043000Z
SUMMARY:Term 4 Last Day
END:VEVENT
END:VCALENDAR
