BEGIN:VCALENDAR
VERSION:2.0
PRODID:-//Squarespace Inc/Squarespace 6//v6//EN
BEGIN:VEVENT
UID:546719ece4b02756c4b0b971@squarespace.com
DTSTAMP:20141115T091819Z
DTSTART:20141031T210000Z
DTEND:20141101T010000Z
SUMMARY:Titoki 25 Anniversary Celebration
END:VEVENT
END:VCALENDAR
