BEGIN:VCALENDAR
VERSION:2.0
PRODID:-//Squarespace Inc/Squarespace 6//v6//EN
BEGIN:VEVENT
UID:54671ef0e4b0686e13cee85f@squarespace.com
DTSTAMP:20141115T093956Z
DTSTART:20141205T210000Z
DTEND:20141205T230000Z
SUMMARY:Browns Bay Santa Parade
GEO:-36.699528;174.732853
LOCATION:Browns Bay
END:VEVENT
END:VCALENDAR
