BEGIN:VCALENDAR
VERSION:2.0
PRODID:-//Squarespace Inc/Squarespace 6//v6//EN
BEGIN:VEVENT
UID:5317e8a5e4b025dd262043e4@squarespace.com
DTSTAMP:20140306T031701Z
DTSTART:20141027T033000Z
DTEND:20141027T043000Z
SUMMARY:Labour Day - Titoki Closed
END:VEVENT
END:VCALENDAR
