BEGIN:VCALENDAR
VERSION:2.0
PRODID:-//Squarespace Inc/Squarespace 6//v6//EN
BEGIN:VEVENT
UID:5317e78ae4b009ca7e437344@squarespace.com
DTSTAMP:20140306T031219Z
DTSTART:20141013T033000Z
DTEND:20141013T043000Z
SUMMARY:Term 4 Starts
END:VEVENT
END:VCALENDAR
