BEGIN:VCALENDAR
VERSION:2.0
PRODID:-//Squarespace Inc/Squarespace 6//v6//EN
BEGIN:VEVENT
UID:52205732e4b068beb2a54f06@squarespace.com
DTSTAMP:20130830T082637Z
DTSTART:20130921T083000Z
DTEND:20130921T093000Z
SUMMARY:Working Bee
END:VEVENT
END:VCALENDAR
