BEGIN:VCALENDAR
VERSION:2.0
PRODID:-//Squarespace Inc/Squarespace 6//v6//EN
BEGIN:VEVENT
UID:521f09e3e4b01d29835d48c4@squarespace.com
DTSTAMP:20130904T092604Z
DTSTART:20130910T073000Z
DTEND:20130910T100000Z
SUMMARY:Parent Social
END:VEVENT
END:VCALENDAR
